BEGIN:VCALENDAR
VERSION:2.0
PRODID:-//ChamberMaster//Event Calendar 2.0//EN
METHOD:PUBLISH
X-PUBLISHED-TTL:P3D
REFRESH-INTERVAL:P3D
CALSCALE:GREGORIAN
BEGIN:VEVENT
DTSTART:20220703T170000Z
DTEND:20220703T190000Z
X-MICROSOFT-CDO-ALLDAYEVENT:FALSE
SUMMARY:Buffalo Run at Firewater Kitchen & Bar
DESCRIPTION:Join us on the patio Sunday\, July 3rd for our Sunday Summer Music Series featuring live music by Buffalo Run. Enjoy lunch and cocktails overlooking the best view of Deep Creek Lake.\n\n**Please see the host for outdoor seating.**\n\nMore about the band...\n\nBuffalo Run is a gathering of long-time musical performers/friends bringing new songs to life and attempting to bring some new life to old songs we love.\n\nVisit them here: @buffalorunboys!
X-ALT-DESC;FMTTYPE=text/html:<div>Join us on the patio Sunday\, July 3rd for our Sunday Summer Music Series featuring live music by Buffalo Run. Enjoy lunch and cocktails overlooking the best view of Deep Creek Lake.</div>\n\n<div>**Please see the host for outdoor seating.**</div>\n\n<div>More about the band...<br />\nBuffalo Run is a gathering of long-time musical performers/friends bringing new songs to life and attempting to bring some new life to old songs we love.</div>\n\n<div>Visit them here: @buffalorunboys!</div>\n
LOCATION:Firewater Kitchen & Bar 20128 Garrett Highway Oakland\, MD 21550
UID:e.847.37815
SEQUENCE:3
DTSTAMP:20260420T111037Z
URL:https://members.visitdeepcreek.com/events/details/buffalo-run-at-firewater-kitchen-bar-37815
END:VEVENT

END:VCALENDAR
