BEGIN:VCALENDAR
VERSION:2.0
PRODID:-//ChamberMaster//Event Calendar 2.0//EN
METHOD:PUBLISH
X-PUBLISHED-TTL:P3D
REFRESH-INTERVAL:P3D
CALSCALE:GREGORIAN
BEGIN:VEVENT
DTSTART:20220326T140000Z
DTEND:20220327T190000Z
X-MICROSOFT-CDO-ALLDAYEVENT:FALSE
SUMMARY:Brodak's Banquet Hall Spring Vendor/Craft Event
DESCRIPTION:Vendor/Craft Event
X-ALT-DESC;FMTTYPE=text/html:Vendor/Craft Event&nbsp\;
LOCATION:Brodak's Banquet Hall 17240 Garrett Highway Oakland\, MD 21550
UID:e.847.36756
SEQUENCE:3
DTSTAMP:20260420T172328Z
URL:https://members.visitdeepcreek.com/events/details/brodak-s-banquet-hall-spring-vendor-craft-event-36756
END:VEVENT

END:VCALENDAR
