BEGIN:VCALENDAR
VERSION:2.0
PRODID:-//ChamberMaster//Event Calendar 2.0//EN
METHOD:PUBLISH
X-PUBLISHED-TTL:P3D
REFRESH-INTERVAL:P3D
CALSCALE:GREGORIAN
BEGIN:VEVENT
DTSTART;VALUE=DATE:20210703
DTEND;VALUE=DATE:20210704
TRANSP:TRANSPARENT
X-MICROSOFT-CDO-ALLDAYEVENT:TRUE
SUMMARY:Broadford Park Fireworks
DESCRIPTION:The Mayor and Town Council of Oakland\, MD are proud to announce that permits and plans are in place for the annual Fireworks Celebration to be held at the Broadford Lake Recreation Area on Friday\, July 3rd 2021. \n\n\n\nThe cost for admission is $3.00 per person and $1.00 per child aged 8 and under. The fireworks show is set to go off at dusk and a rain date has been set for July 5th\, 2021. \n\n\n\nThe Town expects a large turnout for the event and recommends arriving early to secure a parking spot. The park will open at 8:00 a.m. for daily activities. \n\n\n\nThe Garrett Community Concert Band and Garrett Choral Society will present a concert of patriotic and other classic literature in celebration of July 4! The concert is free and open to the public and starts at 7:30pm.
X-ALT-DESC;FMTTYPE=text/html:<p>The Mayor and Town Council of Oakland\, MD are proud to announce that permits and plans are in place for the annual Fireworks Celebration to be held at the Broadford Lake Recreation Area on Friday\, July 3rd 2021.&nbsp\;<br />\n<br />\nThe cost for admission is $3.00 per person and $1.00 per child aged 8 and under. The fireworks show is set to go off at dusk and a rain date has been set for July 5th\, 2021.&nbsp\;<br />\n<br />\nThe Town expects a large turnout for the event and recommends arriving early to secure a parking spot. The park will open at 8:00 a.m. for daily activities.&nbsp\;<br />\n<br />\nThe Garrett Community Concert Band and Garrett Choral Society will present a concert of patriotic and other classic literature in celebration of July 4! The concert is free and open to the public and starts at 7:30pm.&nbsp\;</p>\n\n<p>&nbsp\;</p>\n
LOCATION:Broadford Park Oakland\, MD
UID:e.847.36568
SEQUENCE:3
DTSTAMP:20260421T062901Z
URL:https://members.visitdeepcreek.com/events/details/broadford-park-fireworks-36568
END:VEVENT

END:VCALENDAR
