BEGIN:VCALENDAR
VERSION:2.0
PRODID:-//ChamberMaster//Event Calendar 2.0//EN
METHOD:PUBLISH
X-PUBLISHED-TTL:P3D
REFRESH-INTERVAL:P3D
CALSCALE:GREGORIAN
BEGIN:VEVENT
DTSTART:20211212T140000Z
DTEND:20211212T160000Z
X-MICROSOFT-CDO-ALLDAYEVENT:FALSE
SUMMARY:Breakfast with Santa
DESCRIPTION:December 12\, 2021 - 9:00am - 11:00am\n\nKids 5 & Under free - all others $10.00\n\n\nScrambled Eggs\, Sausage\, Home Fries\, Danishes\, Fruit\, Yogurt\, Juice\, & Coffee\n\n\n\n**Out-of-County Regional Event**
X-ALT-DESC;FMTTYPE=text/html:&nbsp\;\n<p><strong>December 12\, 2021 - 9:00am - 11:00am</strong></p>\n\n<p><strong>Kids 5 &amp\; Under free - all others $10.00</strong></p>\n<br />\n<span style="color:rgb(0\, 40\, 93)">Scrambled Eggs\, Sausage\, Home Fries\, Danishes\, Fruit\, Yogurt\, Juice\, &amp\; Coffee</span><br />\n<br />\n<strong><span style="color:#FF0000\;">**Out-of-County Regional Event**</span></strong>
LOCATION:Alpine Lake Resort 700 W. Alpine Drive Terra Alta\, WV 26764
UID:e.847.36686
SEQUENCE:3
DTSTAMP:20260420T220322Z
URL:https://members.visitdeepcreek.com/events/details/breakfast-with-santa-36686
END:VEVENT

END:VCALENDAR
