BEGIN:VCALENDAR
VERSION:2.0
PRODID:-//ChamberMaster//Event Calendar 2.0//EN
METHOD:PUBLISH
X-PUBLISHED-TTL:P3D
REFRESH-INTERVAL:P3D
CALSCALE:GREGORIAN
BEGIN:VEVENT
DTSTART:20220625T233000Z
DTEND:20220626T010000Z
X-MICROSOFT-CDO-ALLDAYEVENT:FALSE
SUMMARY:Brad and Ken Kolodner Bluegrass
DESCRIPTION:The dynamic father-son team Ken & Brad Kolodner weave together a captivating soundscape on hammered dulcimer and clawhammer banjo blurring the lines of Old-Time\, Bluegrass and American Roots music. Regarded as one of the most influential hammered dulcimer players in North America\, Baltimore's Ken Kolodner joined forces in 2009 with his son Brad Kolodner\, a renowned clawhammer banjo player.
X-ALT-DESC;FMTTYPE=text/html:<span style="color:rgb(0\, 0\, 0)\; font-family:open sans\,arial\,sans-serif\; font-size:16px">The dynamic father-son team Ken &amp\; Brad Kolodner weave together a captivating soundscape on hammered dulcimer and clawhammer banjo blurring the lines of Old-Time\, Bluegrass and American Roots music. Regarded as one of the most influential hammered dulcimer players in North America\, Baltimore&rsquo\;s Ken Kolodner joined forces in 2009 with his son Brad Kolodner\, a renowned clawhammer banjo player.&nbsp\;</span>
LOCATION:Garrett College Auditorium 687 Mosser Road McHenry\, MD 21541
UID:e.847.37747
SEQUENCE:3
DTSTAMP:20260420T141216Z
URL:https://members.visitdeepcreek.com/events/details/brad-and-ken-kolodner-bluegrass-37747
END:VEVENT

END:VCALENDAR
