BEGIN:VCALENDAR
VERSION:2.0
PRODID:-//ChamberMaster//Event Calendar 2.0//EN
METHOD:PUBLISH
X-PUBLISHED-TTL:P3D
REFRESH-INTERVAL:P3D
CALSCALE:GREGORIAN
BEGIN:VEVENT
DTSTART:20220416T160000Z
DTEND:20220417T190000Z
X-MICROSOFT-CDO-ALLDAYEVENT:FALSE
SUMMARY:BEAR FOOT Weekend at the Gallery and Artisan Market at Marsh Hill!
DESCRIPTION:There's new blacktop going down in the parking lot outside Marsh Hill Mercantile.  It may be a little messy\, but we plan to be open this weekend.  So we're having a BEAR FOOT (barefoot) weekend at the gallery.  Just leave your shoes at the door and check out acrylic\, oil\, watercolor\, mixed media\, and paper collage art on our walls as well as the work of local craft artisans including wood crafts\, soy candles\, live edge wood furniture\, wood wall art and much more!\n\n\n\nLocated in McHenry next to popular bars and restaurants\, Marsh Hill Mercantile is a shopping venue showcasing local artists and artisans in a relaxed gallery setting with views of Deep Creek Lake.\n\n\n\nWith our recent expansion\, Marsh Hill Mercantile has opened The Studio at Marsh Hill. We will be offering a variety of hands-on arts and crafts activities over the summer season and a convenient space available for private parties and events.
X-ALT-DESC;FMTTYPE=text/html:<div><span style="font-size:14px"><span style="font-family:verdana">There&#39\;s new blacktop going down in the parking lot outside <a class="oajrlxb2 g5ia77u1 qu0x051f esr5mh6w e9989ue4 r7d6kgcz rq0escxv nhd2j8a9 nc684nl6 p7hjln8o kvgmc6g5 cxmmr5t8 oygrvhab hcukyx3x jb3vyjys rz4wbd8a qt6c0cv9 a8nywdso i1ao9s8h esuyzwwr f1sip0of lzcic4wl gpro0wi8 q66pz984 b1v8xokw" href="https://www.facebook.com/MarshHillMercantile?__cft__[0]=AZW-JYyppFBcVQ4tomLYbP727qTsgWwzHS-8Xx-JcjDnAAGZkniUv4YmXdij68vvNXTbc1chsQXgNSoDCpavnEFmwXkfJeZcwKuGNt9Eg9HdoEg1wOv4Vz1r5iuq2-JdB7P_pPDO9KZ8HeRyy-cKeZMn&amp\;__tn__=-]K-R" style="color: var(--accent)\; cursor: pointer\; text-decoration-line: none\; outline: none\; list-style: none\; border-width: 0px\; border-style: initial\; border-color: initial\; padding: 0px\; margin: 0px\; touch-action: manipulation\; background-color: transparent\; text-align: inherit\; display: inline\; -webkit-tap-highlight-color: transparent\; box-sizing: border-box\; font-family: inherit\;" tabindex="0">Marsh Hill Mercantile</a>.&nbsp\; It may be a little messy\, but we plan to be open this weekend.&nbsp\; So we&#39\;re having a BEAR FOOT (barefoot) weekend at the gallery.&nbsp\; Just leave your shoes at the door and check out&nbsp\;<span style="color:rgb(5\, 5\, 5)">acrylic\, oil\, watercolor\, mixed media\, and paper collage art on our walls as well as the work of local craft artisans including wood crafts\, soy candles\, live edge wood furniture\, wood wall art and much more!</span><br />\n<br />\n<span style="color:rgb(5\, 5\, 5)">Located in McHenry next to popular bars and restaurants\, </span><span style="color:rgb(5\, 5\, 5)"><a class="oajrlxb2 g5ia77u1 qu0x051f esr5mh6w e9989ue4 r7d6kgcz rq0escxv nhd2j8a9 nc684nl6 p7hjln8o kvgmc6g5 cxmmr5t8 oygrvhab hcukyx3x jb3vyjys rz4wbd8a qt6c0cv9 a8nywdso i1ao9s8h esuyzwwr f1sip0of lzcic4wl gpro0wi8 q66pz984 b1v8xokw" href="https://www.facebook.com/MarshHillMercantile?__cft__[0]=AZUfVXkbiF3HJSu8BgHhG-iWoeL9ETPWWS-1g-cBDKj5h4lAHMw2mHti2Eta7coJh8WVZyCNhWIQQsFVC_X9DVCCZJI7M_P0RiIplre8BMoSzDM0OEJlQLZPxS7u9n6uuu4Ay2aM9JtGt8dyPKUfqP1f&amp\;__tn__=-]K-R" style="color: var(--accent)\; cursor: pointer\; text-decoration-line: none\; outline: none\; list-style: none\; border-width: 0px\; border-style: initial\; border-color: initial\; padding: 0px\; margin: 0px\; touch-action: manipulation\; background-color: transparent\; text-align: inherit\; display: inline\; -webkit-tap-highlight-color: transparent\; box-sizing: border-box\; font-family: inherit\;" tabindex="0">Marsh Hill Mercantile</a> is a shopping venue showcasing local artists and artisans in a relaxed gallery setting with views of Deep Creek Lake.<br />\n<br />\nWith our recent expansion\, Marsh Hill Mercantile has opened </span><span style="color:rgb(5\, 5\, 5)"><a class="oajrlxb2 g5ia77u1 qu0x051f esr5mh6w e9989ue4 r7d6kgcz rq0escxv nhd2j8a9 nc684nl6 p7hjln8o kvgmc6g5 cxmmr5t8 oygrvhab hcukyx3x jb3vyjys rz4wbd8a qt6c0cv9 a8nywdso i1ao9s8h esuyzwwr f1sip0of lzcic4wl gpro0wi8 q66pz984 b1v8xokw" href="https://www.facebook.com/TheStudioatMarshHill/?__cft__[0]=AZUfVXkbiF3HJSu8BgHhG-iWoeL9ETPWWS-1g-cBDKj5h4lAHMw2mHti2Eta7coJh8WVZyCNhWIQQsFVC_X9DVCCZJI7M_P0RiIplre8BMoSzDM0OEJlQLZPxS7u9n6uuu4Ay2aM9JtGt8dyPKUfqP1f&amp\;__tn__=kK-R" style="color: var(--accent)\; cursor: pointer\; text-decoration-line: none\; outline: none\; list-style: none\; border-width: 0px\; border-style: initial\; border-color: initial\; padding: 0px\; margin: 0px\; touch-action: manipulation\; background-color: transparent\; text-align: inherit\; display: inline\; -webkit-tap-highlight-color: transparent\; box-sizing: border-box\; font-family: inherit\;" tabindex="0">The Studio at Marsh Hill</a></span></span></span><span style="color:rgb(5\, 5\, 5)\; font-family:segoe ui historic\,segoe ui\,helvetica\,arial\,sans-serif\; font-size:15px"><span style="font-size:14px"><span style="font-family:verdana">. We will be offering a variety of hands-on arts and crafts activities over the summer season and a convenient space available for private parties and events.</span></span> </span><br />\n&nbsp\;</div>\n\n<div>&nbsp\;</div>\n
LOCATION:1550 Deep Creek Drive\, Suite D\, McHenry\, MD 21541
UID:e.847.37135
SEQUENCE:3
DTSTAMP:20260420T171833Z
URL:https://members.visitdeepcreek.com/events/details/bear-foot-weekend-at-the-gallery-and-artisan-market-at-marsh-hill-37135
END:VEVENT

END:VCALENDAR
