BEGIN:VCALENDAR
VERSION:2.0
PRODID:-//ChamberMaster//Event Calendar 2.0//EN
METHOD:PUBLISH
X-PUBLISHED-TTL:P3D
REFRESH-INTERVAL:P3D
CALSCALE:GREGORIAN
BEGIN:VEVENT
DTSTART;VALUE=DATE:20211013
DTEND;VALUE=DATE:20211018
TRANSP:TRANSPARENT
X-MICROSOFT-CDO-ALLDAYEVENT:TRUE
SUMMARY:Autumn Glory Seconds Sale
DESCRIPTION:It's an Autumn Glory Tradition!\n\nBring the family to watch live glassblowing and enjoys the savings!\n\n25% Off Seconds Glass and Pottery\n\nexcluding Drinkware\, Trees & Pumpkins
X-ALT-DESC;FMTTYPE=text/html:<span style="color:#800000"><span style="font-size:16px"><u><strong>It&#39\;s an Autumn Glory Tradition!</strong></u></span><br />\nBring the family to watch live glassblowing and enjoys the savings!<br />\n25% Off Seconds Glass and Pottery<br />\nexcluding Drinkware\, Trees &amp\; Pumpkins</span>
LOCATION:265 Glass Drive Oakland\, MD 21550
UID:e.847.36665
SEQUENCE:3
DTSTAMP:20260421T030929Z
URL:https://members.visitdeepcreek.com/events/details/autumn-glory-seconds-sale-10-13-2021-36665
END:VEVENT

END:VCALENDAR
