BEGIN:VCALENDAR
VERSION:2.0
PRODID:-//ChamberMaster//Event Calendar 2.0//EN
METHOD:PUBLISH
X-PUBLISHED-TTL:P3D
REFRESH-INTERVAL:P3D
CALSCALE:GREGORIAN
BEGIN:VEVENT
DTSTART:20220811T213000Z
DTEND:20220811T233000Z
X-MICROSOFT-CDO-ALLDAYEVENT:FALSE
SUMMARY:August Business After Hours 2022
DESCRIPTION:The Chamber is pleased to announce that First United Bank & Trust will be hosting our August Business After Hours on Thursday\, August 11th from 5:30 pm- 7:30 pm. \n\n\n\nFirst United Bank & Trust is a full-service commercial and retail community bank headquartered in Oakland\, Maryland. First United has been serving communities in Maryland's Garrett\, Allegany\, Washington and Frederick counties\, as well as West Virginia's Mineral\, Monongalia\, Harrison and Berkeley counties for over 120 years. The Community Trust Foundation will be their special guest for the evening! \n\n\n\nEnjoy delicious food and drinks as you mingle with fellow Chamber members and Chamber staff at our monthly networking events. Don't forget your business card to enter to win prizes.
X-ALT-DESC;FMTTYPE=text/html:<span style="font-size:14px\;">The Chamber is pleased to announce that First United Bank &amp\; Trust will be hosting our August Business After Hours on Thursday\, August 11th from 5:30 pm- 7:30 pm.&nbsp\;<br />\n<br />\nFirst United Bank &amp\; Trust is a full-service commercial and retail community bank headquartered in Oakland\, Maryland. First United has been serving communities in Maryland&#39\;s Garrett\, Allegany\, Washington and Frederick counties\, as well as West Virginia&#39\;s Mineral\, Monongalia\, Harrison and Berkeley counties for over 120 years. The Community Trust Foundation will be their special guest for the evening!&nbsp\;<br />\n<br />\nEnjoy delicious food and drinks as you mingle with fellow Chamber members and Chamber staff at our monthly networking events. Don&#39\;t forget your business card to enter to win prizes.</span>
LOCATION:38 Vacation Way McHenry\, Maryland 21541
UID:e.847.37846
SEQUENCE:3
DTSTAMP:20260420T110236Z
URL:https://members.visitdeepcreek.com/events/details/august-business-after-hours-2022-37846
END:VEVENT

END:VCALENDAR
