BEGIN:VCALENDAR
VERSION:2.0
PRODID:-//ChamberMaster//Event Calendar 2.0//EN
METHOD:PUBLISH
X-PUBLISHED-TTL:P3D
REFRESH-INTERVAL:P3D
CALSCALE:GREGORIAN
BEGIN:VEVENT
DTSTART:20210812T213000Z
DTEND:20210812T233000Z
X-MICROSOFT-CDO-ALLDAYEVENT:FALSE
SUMMARY:August Business After Hours 2021
DESCRIPTION:The Chamber is pleased to announce that Mon Health Heart & Vascular Center will be hosting our August Business After Hours on Thursday\, August 12th from 5:30 pm- 7:30 pm. Face masks are required at this event due to the event being held at a medical office. \n\n\n\nMon Health Heart & Vascular Center is a leader in cardiovascular care. We are the first and only hospital in West Virginia to earn an Atrial Fibrillation (AFib) Accreditation and a leading hospital in the region to offer the leading-edge Watchman FLX  for AFib treatment. Also\, Mon Health Medical Center has been recognized by U.S. News & World Report's Best Hospitals 2020-21 as High Performing in Heart Failure and is the only regional hospital and 24th in the country to receive HeartCARE Center Designation by the American College of Cardiology. We are the care provider of choice for matters of the heart in advancing top quality\, closer-to-home care.\n\n\n\nEnjoy delicious food and drinks as you mingle with fellow Chamber members and Chamber staff at our monthly networking events. Don't forget your business card to enter to win prizes.
X-ALT-DESC;FMTTYPE=text/html:<span style="font-size:14px\;">The Chamber is pleased to announce that Mon Health Heart &amp\; Vascular Center will be hosting our August Business After Hours on Thursday\, August 12th from 5:30 pm- 7:30 pm. <strong>Face masks are required at this event due to the event being held at a medical office. </strong><br />\n<br />\nMon Health Heart &amp\; Vascular Center is a leader in cardiovascular care. We are the first and only hospital in West Virginia to earn an Atrial Fibrillation (AFib) Accreditation and a leading hospital in the region to offer the leading-edge Watchman FLX&trade\; for AFib treatment. Also\, Mon Health Medical Center has been recognized by U.S. News &amp\; World Report&rsquo\;s Best Hospitals 2020-21 as High Performing in Heart Failure and is the only regional hospital and 24th in the country to receive HeartCARE Center Designation by the American College of Cardiology. We are the care provider of choice for matters of the heart in advancing top quality\, closer-to-home care.<br />\n<br />\nEnjoy delicious food and drinks as you mingle with fellow Chamber members and Chamber staff at our monthly networking events. Don&#39\;t forget your business card to enter to win prizes.</span>
LOCATION:2501 Deep Creek Drive McHenry\, Maryland 21541
UID:e.847.33054
SEQUENCE:3
DTSTAMP:20260421T045313Z
URL:https://members.visitdeepcreek.com/events/details/august-business-after-hours-2021-33054
END:VEVENT

END:VCALENDAR
