BEGIN:VCALENDAR
VERSION:2.0
PRODID:-//ChamberMaster//Event Calendar 2.0//EN
METHOD:PUBLISH
X-PUBLISHED-TTL:P3D
REFRESH-INTERVAL:P3D
CALSCALE:GREGORIAN
BEGIN:VEVENT
DTSTART:20210626T190000Z
DTEND:20210626T220000Z
X-MICROSOFT-CDO-ALLDAYEVENT:FALSE
SUMMARY:Arthur Moats Book Signing at Grantsville Days
DESCRIPTION:Don't Cross the Moats! Former NFL Linebacker Arthur Moats will be at Grantsville Days signing books and interacting with fans. Come out and meet one of the most positive and upbeat men in the world! He will be selling and signing his book - MOATS Theory of Life. Books will be available for sale for $20 with 20% of sales going to his foundation\, The Marine Corps Heritage Foundation.\n\nDon't miss your chance to meet a NFL and Steeler legend.\n\nFor more information on his book\, please see https://www.moatstheory.com
X-ALT-DESC;FMTTYPE=text/html:<div>Don&#39\;t Cross the Moats! Former NFL Linebacker Arthur Moats will be at Grantsville Days signing books and interacting with fans. Come out and meet one of the most positive and upbeat men in the world! He will be selling and signing his book - MOATS Theory of Life. Books will be available for sale for $20 with 20% of sales going to his foundation\, The Marine Corps Heritage Foundation.</div>\n\n<div>Don&#39\;t miss your chance to meet a NFL and Steeler legend.</div>\n\n<div>For more information on his book\, please see&nbsp\;<a class="oajrlxb2 g5ia77u1 qu0x051f esr5mh6w e9989ue4 r7d6kgcz rq0escxv nhd2j8a9 nc684nl6 p7hjln8o kvgmc6g5 cxmmr5t8 oygrvhab hcukyx3x jb3vyjys rz4wbd8a qt6c0cv9 a8nywdso i1ao9s8h esuyzwwr f1sip0of lzcic4wl py34i1dx gpro0wi8" href="https://www.moatstheory.com/?fbclid=IwAR3JmGzByBcultYA-GGJlCGh8nmgt7WcVoHB1ec8U3I-7r0RlaCuNqhGgIA" rel="nofollow noopener" style="color: var(--blue-link)\; cursor: pointer\; text-decoration-line: none\; outline: none\; list-style: none\; border-width: 0px\; border-style: initial\; border-color: initial\; padding: 0px\; margin: 0px\; touch-action: manipulation\; background-color: transparent\; text-align: inherit\; display: inline\; -webkit-tap-highlight-color: transparent\; box-sizing: border-box\; font-family: inherit\;" tabindex="0" target="_blank">https://www.moatstheory.com</a></div>\n
LOCATION:Grantsville Town Park Grantsville\, MD 21536
UID:e.847.36158
SEQUENCE:3
DTSTAMP:20260421T082055Z
URL:https://members.visitdeepcreek.com/events/details/arthur-moats-book-signing-at-grantsville-days-36158
END:VEVENT

END:VCALENDAR
