BEGIN:VCALENDAR
VERSION:2.0
PRODID:-//ChamberMaster//Event Calendar 2.0//EN
METHOD:PUBLISH
X-PUBLISHED-TTL:P3D
REFRESH-INTERVAL:P3D
CALSCALE:GREGORIAN
BEGIN:VEVENT
DTSTART:20220910T230000Z
DTEND:20220911T020000Z
X-MICROSOFT-CDO-ALLDAYEVENT:FALSE
SUMMARY:Art & Wine Festival After Party at Wisp Resort
DESCRIPTION:Continue the fun after the Art & Wine Festival with an After Party at Wisp Resort. Performance by Scott Alexander at Wispers Bar & Deck.
X-ALT-DESC;FMTTYPE=text/html:Continue the fun after the Art &amp\; Wine Festival with an After Party at Wisp Resort. Performance by Scott Alexander at Wispers Bar &amp\; Deck.
LOCATION:Wisp Resort 296 Marsh Hill Rd. McHenry\, MD 21541
UID:e.847.38344
SEQUENCE:3
DTSTAMP:20260420T111734Z
URL:https://members.visitdeepcreek.com/events/details/art-wine-festival-after-party-at-wisp-resort-38344
END:VEVENT

END:VCALENDAR
