BEGIN:VCALENDAR
VERSION:2.0
PRODID:-//ChamberMaster//Event Calendar 2.0//EN
METHOD:PUBLISH
X-PUBLISHED-TTL:P3D
REFRESH-INTERVAL:P3D
CALSCALE:GREGORIAN
BEGIN:VEVENT
DTSTART:20210522T140000Z
DTEND:20210522T200000Z
X-MICROSOFT-CDO-ALLDAYEVENT:FALSE
SUMMARY:Art Market at Grantsville National Road Festival
DESCRIPTION:Shop local artists and enjoy a spring day out along the "Casselman Riviera" with the many events of the Grantsville National Road Festival both at Little Crossings and in town.
X-ALT-DESC;FMTTYPE=text/html:<div>Shop local artists and enjoy a spring day out along the &quot\;Casselman Riviera&quot\; with the many events of the Grantsville National Road Festival both at Little Crossings and in town.</div>\n
LOCATION:146 Casselman Rd.\, Grantsville MD 21536
UID:e.847.34462
SEQUENCE:3
DTSTAMP:20260421T094508Z
URL:https://members.visitdeepcreek.com/events/details/art-market-at-grantsville-national-road-festival-34462
END:VEVENT

END:VCALENDAR
