BEGIN:VCALENDAR
VERSION:2.0
PRODID:-//ChamberMaster//Event Calendar 2.0//EN
METHOD:PUBLISH
X-PUBLISHED-TTL:P3D
REFRESH-INTERVAL:P3D
CALSCALE:GREGORIAN
BEGIN:VEVENT
DTSTART:20210710T140000Z
DTEND:20210710T210000Z
X-MICROSOFT-CDO-ALLDAYEVENT:FALSE
SUMMARY:Art in the Park
DESCRIPTION:Enjoy the lakefront view of Deep Creek Lake State Park's 21st Annual Art in the Park. Bring the entire family to explore the original artwork of over thirty local artists and food vendors.  Other activities in the festival include tie dye\, mural painting\, and live animal and nature programming in the Naturalist tent. Proceeds of this fundraiser benefit the Western Garrett County State Park Volunteers\, and goes to future programming\, education\, and upkeep in the park. All artwork displayed is for sale.
X-ALT-DESC;FMTTYPE=text/html:Enjoy the lakefront view of Deep Creek Lake State Park&#39\;s 21st Annual Art in the Park. Bring the entire family to explore the original artwork of over thirty local artists and food vendors.&nbsp\; Other activities in the festival include tie dye\, mural painting\, and live animal and nature programming in the Naturalist tent. Proceeds of this fundraiser benefit the Western Garrett County State Park Volunteers\, and goes to future programming\, education\, and upkeep in the park. All artwork displayed is for sale.&nbsp\;
LOCATION:Deep Creek Lake State Park Day Use Area 898 State Park Road Swanton\, MD 21561
UID:e.847.36164
SEQUENCE:3
DTSTAMP:20260421T063749Z
URL:https://members.visitdeepcreek.com/events/details/art-in-the-park-07-10-2021-36164
END:VEVENT

END:VCALENDAR
