BEGIN:VCALENDAR
VERSION:2.0
PRODID:-//ChamberMaster//Event Calendar 2.0//EN
METHOD:PUBLISH
X-PUBLISHED-TTL:P3D
REFRESH-INTERVAL:P3D
CALSCALE:GREGORIAN
BEGIN:VEVENT
DTSTART:20220414T213000Z
DTEND:20220414T233000Z
X-MICROSOFT-CDO-ALLDAYEVENT:FALSE
SUMMARY:April Business After Hours 2022
DESCRIPTION:The Chamber is pleased to announce that The Greene Turtle will be hosting our April Business After Hours on Thursday\, April 14th from 5:30 pm - 7:30 pm. \n\n\n\nThe Greene Turtle is more than a sports bar and grille. We believe in being a community hangout for all ages\, that serves great food & drinks in a fun\, casual atmosphere built on the excitement & unity of sports.\n\n\n\nEnjoy delicious food and drinks as you mingle with fellow Chamber members and Chamber staff at our monthly networking events. Don't forget your business card to enter to win prizes.
X-ALT-DESC;FMTTYPE=text/html:The Chamber is pleased to announce that The Greene Turtle will be hosting our April Business After Hours on Thursday\, April 14th from 5:30 pm - 7:30 pm.&nbsp\;<br />\n<br />\nThe Greene Turtle is more than a sports bar and grille. We believe in being a community hangout for all ages\, that serves great food &amp\; drinks in a fun\, casual atmosphere built on the excitement &amp\; unity of sports.<br />\n<br />\nEnjoy delicious food and drinks as you mingle with fellow Chamber members and Chamber staff at our monthly networking events. Don&#39\;t forget your business card to enter to win prizes.
LOCATION:The Greene Turtle 75 Visitors Center Drive McHenry\, MD 21541
UID:e.847.36746
SEQUENCE:3
DTSTAMP:20260420T154354Z
URL:https://members.visitdeepcreek.com/events/details/april-business-after-hours-2022-36746
END:VEVENT

END:VCALENDAR
