BEGIN:VCALENDAR
VERSION:2.0
PRODID:-//ChamberMaster//Event Calendar 2.0//EN
METHOD:PUBLISH
X-PUBLISHED-TTL:P3D
REFRESH-INTERVAL:P3D
CALSCALE:GREGORIAN
BEGIN:VEVENT
DTSTART:20220518T203000Z
DTEND:20220518T233000Z
X-MICROSOFT-CDO-ALLDAYEVENT:FALSE
SUMMARY:Appalachian Chef's Dinner
DESCRIPTION:As part of the Grantsville National Road Festival\, experience The Cornucopia Caf  and Chef Martin Galloway's take on historic and contemporary recipes from the "Grub to Gourmet" cookbook\, published by the National Road Heritage Corridor.\n\n\n	\n	Bonfire and live picking jam session led by Snaggy Mountain Slackers beginning at 4:30pm   bring an instrument and join in!\n	\n	\n	Dinner at 5:30pm with National Road history presentation\n	\n\n\nA portion of each ticket will benefit Grantsville Revitalization Organization.
X-ALT-DESC;FMTTYPE=text/html:<p>As part of the Grantsville National Road Festival\, experience The Cornucopia Caf&eacute\; and Chef Martin Galloway&#39\;s take on historic and contemporary recipes from the &ldquo\;Grub to Gourmet&rdquo\; cookbook\, published by the National Road Heritage Corridor.</p>\n\n<ul>\n	<li>\n	<p>Bonfire and live picking jam session led by Snaggy Mountain Slackers beginning at 4:30pm &ndash\; <em>bring an instrument and join in!</em></p>\n	</li>\n	<li>\n	<p>Dinner at 5:30pm with National Road history presentation</p>\n	</li>\n</ul>\n\n<p><strong>A portion of each ticket will benefit Grantsville Revitalization Organization</strong>.&nbsp\;</p>\n
LOCATION:The Cornucopia Caf 146 Casselman Rd. Grantsville\, MD 21536
UID:e.847.37143
SEQUENCE:3
DTSTAMP:20260420T141200Z
URL:https://members.visitdeepcreek.com/events/details/appalachian-chef-s-dinner-37143
END:VEVENT

END:VCALENDAR
