BEGIN:VCALENDAR
VERSION:2.0
PRODID:-//ChamberMaster//Event Calendar 2.0//EN
METHOD:PUBLISH
X-PUBLISHED-TTL:P3D
REFRESH-INTERVAL:P3D
CALSCALE:GREGORIAN
BEGIN:VEVENT
DTSTART:20210722T220000Z
DTEND:20210723T010000Z
X-MICROSOFT-CDO-ALLDAYEVENT:FALSE
SUMMARY:Annual Membership Meeting & Dinner 2021
DESCRIPTION:The Annual Dinner is the Chamber's opportunity to celebrate our organization as it is today as well as our successes of the past year and look ahead to the future. New officers and Board Members are announced and awards such as the Diplomat of the Year Award and the Heise Entrepreneurial Spirit Award are presented. The 2021 Annual Membership Meeting Dinner will be held on Thursday\, July 22 in the McHenry Lodge at Wisp Resort. The evening will include a cash bar reception starting at 6:00 pm\, dinner at 7:00 pm and the program at 7:45 pm. It is a great opportunity to network with Chamber members\, county business leaders\, and government officials while enjoying a wonderful dinner.\n\n\n\nGold Sponsors\n\n	Clear Mountain Bank\n	Mountain Laurel Medical Center\n	Premier Power Solutions\, LLC\n\nSilver Sponsors\n\n\n	Advanced Heating and Cooling\, LLC\n	Byco Enterprises\, Inc.\n	First Peoples Community Federal Credit Union\n	First United Bank & Trust\n	Green Acres Garden Center & Flower Basket\n	Railey Realty & Railey Vacations\n	Taylor-Made Deep Creek Vacations & Sales\n\nCenterpiece Sponsor\n\n\n	The Garrett County Republican\n\n\n\nBronze Sponsor\n\n\n	1 Real Estate Source\, LLC & Humberson Homes\, LLC\n	Budget Charters\, Inc.\n	David Jochynek\, State Farm\n	Garrett Regional Medical Center\n	LakeFront Lodge\n	Mountain State Brewing Co.\n	Oakland Oil & Propane & Deep Creek Fireplace & Outdoor Store\n	Somerset Trust Company\n	The Rodeheaver Group\, P.C.
X-ALT-DESC;FMTTYPE=text/html:The Annual Dinner is the Chamber&#39\;s opportunity to celebrate our organization as it is today as well as our successes of the past year and look ahead to the future. New officers and Board Members are announced and awards such as the Diplomat of the Year Award and the Heise Entrepreneurial Spirit Award are presented. The 2021 Annual Membership Meeting Dinner will be held on Thursday\, July 22 in the McHenry Lodge at Wisp Resort. The evening will include a cash bar reception starting at 6:00 pm\, dinner at 7:00 pm and the program at 7:45 pm. It is a great opportunity to network with Chamber members\, county business leaders\, and government officials while enjoying a wonderful dinner.<br />\n<br />\n<span style="font-size:22px\;"><u><strong>Gold Sponsors</strong></u></span>\n<ul>\n	<li><span style="font-size:22px\;"><a href="https://www.visitdeepcreek.com/list/member/clear-mountain-bank-732">Clear Mountain Bank</a></span></li>\n	<li><span style="font-size:22px\;"><a href="https://www.visitdeepcreek.com/list/member/mountain-laurel-medical-center-1147">Mountain&nbsp\;Laurel Medical Center</a></span></li>\n	<li><span style="font-size:22px\;"><a href="https://www.visitdeepcreek.com/list/member/premier-power-solutions-llc-427">Premier Power Solutions\, LLC</a></span></li>\n</ul>\n<span style="font-size:18px\;"><u><strong>Silver Sponsors</strong></u></span>\n\n<ul>\n	<li><span style="font-size:18px\;"><a href="https://www.visitdeepcreek.com/list/member/advanced-heating-and-cooling-llc-28884">Advanced Heating and Cooling\, LLC</a></span></li>\n	<li><span style="font-size:18px\;"><a href="https://www.visitdeepcreek.com/list/member/byco-enterprises-inc-692">Byco Enterprises\, Inc.</a></span></li>\n	<li><span style="font-size:18px\;"><a href="https://www.visitdeepcreek.com/list/member/first-peoples-community-federal-credit-union-605">First Peoples Community Federal Credit Union</a></span></li>\n	<li><span style="font-size:18px\;"><a href="https://www.visitdeepcreek.com/list/member/first-united-bank-trust-606">First United Bank &amp\; Trust</a></span></li>\n	<li><a href="https://www.visitdeepcreek.com/list/member/green-acres-garden-center-flower-basket-1234"><span style="font-size:18px\;">Green Acres Garden Center &amp\; Flower Basket</span></a></li>\n	<li><span style="font-size:18px\;"><a href="https://www.visitdeepcreek.com/list/member/railey-realty-451">Railey Realty</a> &amp\; <a href="https://www.visitdeepcreek.com/list/member/railey-vacations-449">Railey Vacations</a></span></li>\n	<li><span style="font-size:18px\;"><a href="https://www.visitdeepcreek.com/list/member/taylor-made-deep-creek-vacations-sales-293">Taylor-Made Deep Creek Vacations &amp\; Sales</a></span></li>\n</ul>\n<u><strong>Centerpiece Sponsor</strong></u>\n\n<ul>\n	<li><a href="https://www.visitdeepcreek.com/list/member/the-garrett-county-republican-211">The Garrett County Republican</a></li>\n</ul>\n<br />\n<u><strong>Bronze Sponsor</strong></u>\n\n<ul>\n	<li><a href="https://www.visitdeepcreek.com/list/member/1-real-estate-source-llc-59">1 Real Estate Source\, LLC</a>&nbsp\;&amp\;&nbsp\;<a href="https://www.visitdeepcreek.com/list/member/humberson-homes-llc-1301">Humberson Homes\, LLC</a></li>\n	<li><a href="https://www.visitdeepcreek.com/list/member/budget-charters-inc-28089">Budget Charters\, Inc.</a></li>\n	<li><a href="https://www.visitdeepcreek.com/list/member/david-jochynek-state-farm-28916">David Jochynek\, State Farm</a></li>\n	<li><a href="https://www.visitdeepcreek.com/list/member/garrett-regional-medical-center-663">Garrett Regional Medical Center</a></li>\n	<li><a href="https://www.visitdeepcreek.com/list/member/lakefront-lodge-1037">LakeFront Lodge</a></li>\n	<li><a href="https://www.visitdeepcreek.com/list/member/mountain-state-brewing-co-1151">Mountain State Brewing Co.</a></li>\n	<li><a href="https://www.visitdeepcreek.com/list/member/oakland-oil-company-369">Oakland Oil &amp\; Propane</a>&nbsp\;&amp\;&nbsp\;<a href="https://www.visitdeepcreek.com/list/member/deep-creek-fireplace-outdoor-store-28862">Deep Creek Fireplace &amp\; Outdoor Store</a></li>\n	<li><a href="https://www.visitdeepcreek.com/list/member/somerset-trust-company-28026">Somerset Trust Company</a></li>\n	<li><a href="https://www.visitdeepcreek.com/list/member/the-rodeheaver-group-p-c-488">The Rodeheaver Group\, P.C.</a></li>\n</ul>\n
LOCATION:McHenry Lodge Wisp Resort 296 Marsh Hill Road McHenry\, MD 21541
UID:e.847.35921
SEQUENCE:3
DTSTAMP:20260421T080812Z
URL:https://members.visitdeepcreek.com/events/details/annual-membership-meeting-dinner-2021-35921
END:VEVENT

END:VCALENDAR
