BEGIN:VCALENDAR
VERSION:2.0
PRODID:-//ChamberMaster//Event Calendar 2.0//EN
METHOD:PUBLISH
X-PUBLISHED-TTL:P3D
REFRESH-INTERVAL:P3D
CALSCALE:GREGORIAN
BEGIN:VEVENT
DTSTART:20220917T160000Z
DTEND:20220917T230000Z
X-MICROSOFT-CDO-ALLDAYEVENT:FALSE
SUMMARY:Alpine Lake's OktoberFest
DESCRIPTION:Join in OktoberFest fun with good food\, drinks\, games\, music and more.\n\n\n\n**Out-of-County Regional Event**
X-ALT-DESC;FMTTYPE=text/html:Join in OktoberFest fun with good food\, drinks\, games\, music and more.<br />\n<br />\n<strong><span style="color:#FF0000\;">**Out-of-County Regional Event**</span></strong>
LOCATION:Alpine Lake Resort - Boathouse
UID:e.847.37936
SEQUENCE:3
DTSTAMP:20260420T093131Z
URL:https://members.visitdeepcreek.com/events/details/alpine-lake-s-oktoberfest-37936
END:VEVENT

END:VCALENDAR
