BEGIN:VCALENDAR
VERSION:2.0
PRODID:-//ChamberMaster//Event Calendar 2.0//EN
METHOD:PUBLISH
X-PUBLISHED-TTL:P3D
REFRESH-INTERVAL:P3D
CALSCALE:GREGORIAN
BEGIN:VEVENT
DTSTART:20220409T140000Z
DTEND:20220409T180000Z
X-MICROSOFT-CDO-ALLDAYEVENT:FALSE
SUMMARY:Alpine Lake Resort Job Fair
DESCRIPTION:Now Hiring for All Positions!\n\n \n\nFood Service\, Kitchen\, Cooks\, Waitstaff\, Housekeeping\, Security\, Maintenance\, Grounds\, Front Desk\, and Roads\n\nPositions include seasonal and permanent opportunities. Come work with great people in a great environment.\n\nStop by! No appointment needed\; plus\, on-the-spot interviews!\n\n \n\nAlpine Lake Resort\, 700 W. Alpine Road\, Terra Alta\, WV 26764\n\nEqual Opportunity Employer\n\n\n\nUNDER NEW MANAGEMENT!\n\n\n\n**Out-of-Town Regional Event**
X-ALT-DESC;FMTTYPE=text/html:<div>Now Hiring for All Positions!<br />\n&nbsp\;</div>\n\n<div>Food Service\, Kitchen\, Cooks\, Waitstaff\, Housekeeping\, Security\, Maintenance\, Grounds\, Front Desk\, and Roads</div>\n\n<div>Positions include seasonal and permanent opportunities. Come work with great people in a great environment.</div>\n\n<div>Stop by! No appointment needed\; plus\, on-the-spot interviews!<br />\n&nbsp\;</div>\n\n<div>Alpine Lake Resort\, 700 W. Alpine Road\, Terra Alta\, WV 26764<br />\nEqual Opportunity Employer</div>\n\n<div><br />\nUNDER NEW MANAGEMENT!<br />\n<br />\n<span style="color:#FF0000\;"><strong>**Out-of-Town Regional Event**</strong></span></div>\n
LOCATION:Alpine Lake Resort\, 700 W. Alpine Road\, Terra Alta\, WV 26764
UID:e.847.37012
SEQUENCE:3
DTSTAMP:20260420T170938Z
URL:https://members.visitdeepcreek.com/events/details/alpine-lake-resort-job-fair-37012
END:VEVENT

END:VCALENDAR
