BEGIN:VCALENDAR
VERSION:2.0
PRODID:-//ChamberMaster//Event Calendar 2.0//EN
METHOD:PUBLISH
X-PUBLISHED-TTL:P3D
REFRESH-INTERVAL:P3D
CALSCALE:GREGORIAN
BEGIN:VEVENT
DTSTART:20210821T150000Z
DTEND:20210822T000000Z
X-MICROSOFT-CDO-ALLDAYEVENT:FALSE
SUMMARY:Alpine Lake Music Fest
DESCRIPTION:**Out-of-County Regional Event**\n\n\n\nThe 9th annual Alpine Lake Music Fest is August 21\, 2021 and we're throwing a big party with food\, drink\, local vendors\, and\, of course\, five great bands!\n\n\n\nTickets are $20 in advance and $25 at the gate. Call the Alpine Lake Resort front desk for tickets at 304-789-2481 or order online at www.AlpineLake.com/music-fest/\n\n \n5 GREAT BANDS!\n\n \n\n11am   12pm\n\nRonnie Burroughs\n\n(cover artist)\n\n"ALL YOUR FAVORITE SONGS"\n\n \n\n12:15pm   1:15pm\n\nPaul Burger\n\n(cover artist)\n\n"ENTERTAINING CROWDS FROM 8-80 SINCE 1982\; PLAYING ALL MY FAVORITE SONGS"\n\n \n\n1:30pm   3:30pm\n\nThe Hillbilly Gypsies\n\n(bluegrass)\n\n"PERFORMING THEIR OWN BRAND OF BLUEGRASS AND OLD-TIME MUSIC FOR OVER A DECADE"\n\n \n\n3:45pm   5:30pm\n\nTravis Minnick\n\n(country and rock n' roll)\n\n"KICK A$$ COUNTRY"\n\n \n\n5:45pm   8:00pm\n\nTrain Wreck\n\n(country and rock n' roll)\n\n"MORGANTOWN'S GREATEST COVER BAND AND THROWBACKS TO THE 70S"\n\n \n\n**PLUS A SURPRISE SPECIAL GUEST PERFORMANCE!*
X-ALT-DESC;FMTTYPE=text/html:<span style="color:#B22222\;"><strong>**Out-of-County Regional Event**</strong></span><br />\n<br />\nThe 9th annual Alpine Lake Music Fest is August 21\, 2021 and we&rsquo\;re throwing a big party with food\, drink\, local vendors\, and\, of course\, five great bands!<br />\n<br />\nTickets are $20 in advance and $25 at the gate. Call the Alpine Lake Resort front desk for tickets at 304-789-2481 or order online at www.AlpineLake.com/music-fest/<br />\n&nbsp\;\n<h1 style="text-align:center">5 GREAT BANDS!</h1>\n\n<h1 style="text-align:center">&nbsp\;</h1>\n\n<h1 style="text-align:center">11am &ndash\; 12pm<br />\nRonnie Burroughs</h1>\n\n<h1 style="text-align:center">(cover artist)<br />\n&ldquo\;ALL YOUR FAVORITE SONGS&rdquo\;</h1>\n\n<h1 style="text-align:center">&nbsp\;</h1>\n\n<h1 style="text-align:center">12:15pm &ndash\; 1:15pm<br />\nPaul Burger</h1>\n\n<h1 style="text-align:center">(cover artist)<br />\n&ldquo\;ENTERTAINING CROWDS FROM 8-80 SINCE 1982\; PLAYING ALL MY FAVORITE SONGS&rdquo\;</h1>\n\n<h1 style="text-align:center">&nbsp\;</h1>\n\n<h1 style="text-align:center">1:30pm &ndash\; 3:30pm<br />\nThe Hillbilly Gypsies</h1>\n\n<h1 style="text-align:center">(bluegrass)<br />\n&ldquo\;PERFORMING THEIR OWN BRAND OF BLUEGRASS AND OLD-TIME MUSIC FOR OVER A DECADE&rdquo\;</h1>\n\n<h1 style="text-align:center">&nbsp\;</h1>\n\n<h1 style="text-align:center">3:45pm &ndash\; 5:30pm<br />\nTravis Minnick</h1>\n\n<h1 style="text-align:center">(country and rock n&rsquo\; roll)<br />\n&ldquo\;KICK A$$ COUNTRY&rdquo\;</h1>\n\n<h1 style="text-align:center">&nbsp\;</h1>\n\n<h1 style="text-align:center">5:45pm &ndash\; 8:00pm<br />\nTrain Wreck</h1>\n\n<h1 style="text-align:center">(country and rock n&rsquo\; roll)<br />\n&ldquo\;MORGANTOWN&rsquo\;S GREATEST COVER BAND AND THROWBACKS TO THE 70S&rdquo\;</h1>\n\n<h1 style="text-align:center">&nbsp\;</h1>\n\n<h1 style="text-align:center"><strong>**PLUS A SURPRISE SPECIAL GUEST PERFORMANCE!*</strong></h1>\n
LOCATION:700 W. Alpine Drive Terra Alta\, WV 26764
UID:e.847.36614
SEQUENCE:3
DTSTAMP:20260421T045432Z
URL:https://members.visitdeepcreek.com/events/details/alpine-lake-music-fest-36614
END:VEVENT

END:VCALENDAR
