BEGIN:VCALENDAR
VERSION:2.0
PRODID:-//ChamberMaster//Event Calendar 2.0//EN
METHOD:PUBLISH
X-PUBLISHED-TTL:P3D
REFRESH-INTERVAL:P3D
CALSCALE:GREGORIAN
BEGIN:VEVENT
DTSTART:20220414T220000Z
DTEND:20220414T230000Z
X-MICROSOFT-CDO-ALLDAYEVENT:FALSE
SUMMARY:Adults Only Egg Hunt
DESCRIPTION:Join us for our first-ever Adults Only Egg Hunt! If you're 21 and over\, come out and have some fun with us!\n\n\n\nKeep What You Find:\n\nFree food coupons\, candy\, miniatures\, and jello shot eggs! Prizes for the top finishers!\n\n\n\n DRINK & CASH PRIZES\n\n RAIN OR SHINE\n\n MUSIC AND FUN\n\n\n\nLimited tickets available\n\n$25 each\n\n\n\n**Out-of-County Regional Event**
X-ALT-DESC;FMTTYPE=text/html:<div>Join us for our first-ever Adults Only Egg Hunt! If you&#39\;re 21 and over\, come out and have some fun with us!</div>\n\n<div><br />\nKeep What You Find:<br />\nFree food coupons\, candy\, miniatures\, and jello shot eggs! Prizes for the top finishers!</div>\n\n<div><br />\n&ndash\;DRINK &amp\; CASH PRIZES<br />\n&ndash\;RAIN OR SHINE<br />\n&ndash\;MUSIC AND FUN</div>\n\n<div><br />\nLimited tickets available<br />\n$25 each<br />\n<br />\n<span style="color:#FF0000\;"><strong>**Out-of-County Regional Event**&nbsp\;</strong></span></div>\n
LOCATION:Alpine Lake Resort 700 W Alpine Drive Terra Alta\, WV 26764
UID:e.847.37133
SEQUENCE:3
DTSTAMP:20260420T153621Z
URL:https://members.visitdeepcreek.com/events/details/adults-only-egg-hunt-37133
END:VEVENT

END:VCALENDAR
