BEGIN:VCALENDAR
VERSION:2.0
PRODID:-//ChamberMaster//Event Calendar 2.0//EN
METHOD:PUBLISH
X-PUBLISHED-TTL:P3D
REFRESH-INTERVAL:P3D
CALSCALE:GREGORIAN
BEGIN:VEVENT
DTSTART:20211221T160000Z
DTEND:20211222T000000Z
X-MICROSOFT-CDO-ALLDAYEVENT:FALSE
SUMMARY:A Mountain Fix - First Anniversary Party
DESCRIPTION:Join us as we celebrate our first anniversary!!\n\nHoliday refreshments\, product specials and prizes throughout the day.
X-ALT-DESC;FMTTYPE=text/html:Join us as we celebrate our first anniversary!!<br />\nHoliday refreshments\, product specials and prizes throughout the day.
LOCATION:1550-G Deep Creek Drive\, McHenry\, MD 21541
UID:e.847.33481
SEQUENCE:3
DTSTAMP:20260420T234545Z
URL:https://members.visitdeepcreek.com/events/details/a-mountain-fix-first-anniversary-party-33481
END:VEVENT

END:VCALENDAR
