BEGIN:VCALENDAR
VERSION:2.0
PRODID:-//ChamberMaster//Event Calendar 2.0//EN
METHOD:PUBLISH
X-PUBLISHED-TTL:P3D
REFRESH-INTERVAL:P3D
CALSCALE:GREGORIAN
BEGIN:VEVENT
DTSTART:20211204T160000Z
DTEND:20211204T190000Z
X-MICROSOFT-CDO-ALLDAYEVENT:FALSE
SUMMARY:A Great Small Town Christmas in Oakland
DESCRIPTION:Join the Town of Oakland for A Great Small Town Christmas\, December 4th\, 2021. We have many free and family-friendly activities in downtown Oakland while you work on your Christmas shopping with handcrafted and curated gifts.\n\n  \n\nOn Saturday\, December 4th the fun continues with Soup N' Santa! There will be multiple nonprofits handing out free soup (donations are appreciated)\, the chance to visit with Santa at Smoke n Mirrors\, free sleigh rides\, live music\, and local shopping. This event will last from 11am to 2pm.\n\n \n\nWhile you're enjoying all the fun activities make sure to visit the House of Hope Cash Drive on Second Street from 9am-noon. Due to covid the House of Hope will only be accepting cash donations at this time. The House of Hope provides short-term emergency assistance to those in need who cannot receive this particular help anywhere else. \n\n \n\nAnd while you're shopping\, don't forget to look for the elf! The Lucky Elf promotion in downtown Oakland continues through Monday\, December 20th. For every $25 spent in participating Oakland stores you visit\, you receive a chance to win a variety of local gift certificates. Bring your Elf Cards to Oakland City Hall to enter the drawing! \n\n \n\nFor a complete list details regarding Christmas activities and store specials visit Oakland's community calendar and website at www.oaklandmd.com.
X-ALT-DESC;FMTTYPE=text/html:<span style="color:#222222"><span style="font-family:arial\,sans-serif">Join the Town of Oakland for A Great Small Town Christmas\, December 4th\, 2021. We have many free and family-friendly activities in downtown Oakland while you work on your Christmas shopping with handcrafted and curated gifts.</span></span><br />\n&nbsp\;&nbsp\;<br />\n<span style="color:#222222"><span style="font-family:arial\,sans-serif">On Saturday\, December 4th the fun continues with Soup N&rsquo\; Santa! There will be multiple nonprofits handing out free soup (donations are appreciated)\, the chance to visit with Santa at Smoke n Mirrors\, free sleigh rides\, live music\, and local shopping. This event will last from 11am to 2pm.</span></span><br />\n&nbsp\;<br />\n<span style="color:#222222"><span style="font-family:arial\,sans-serif">While you&rsquo\;re enjoying all the fun activities make sure to visit the House of Hope Cash Drive on Second Street from 9am-noon. Due to covid the House of Hope will only be accepting cash donations at this time. The House of Hope provides short-term emergency assistance to those in need who cannot receive this particular help anywhere else. </span></span><br />\n&nbsp\;<br />\n<span style="color:#222222"><span style="font-family:arial\,sans-serif">And while you&#39\;re shopping\, don&#39\;t forget to look for the elf! The Lucky Elf promotion in downtown Oakland continues through Monday\, December 20th. For every $25 spent in participating Oakland stores you visit\, you receive a chance to win a variety of local gift certificates. Bring your Elf Cards to Oakland City Hall to enter the drawing! </span></span><br />\n&nbsp\;<br />\n<span style="color:#222222"><span style="font-family:arial\,sans-serif">For a complete list details regarding Christmas activities and store specials visit Oakland&#39\;s community calendar and website at&nbsp\;</span></span><a href="http://www.oaklandmd.com/" target="_blank"><span style="color:#1155CC"><span style="font-family:arial\,sans-serif">www.oaklandmd.com</span></span></a><span style="color:#222222"><span style="font-family:arial\,sans-serif">.</span></span><br />\n&nbsp\;
LOCATION:Downtown Oakland
UID:e.847.33002
SEQUENCE:3
DTSTAMP:20260420T220902Z
URL:https://members.visitdeepcreek.com/events/details/a-great-small-town-christmas-in-oakland-12-05-2020-33002
END:VEVENT

END:VCALENDAR
