BEGIN:VCALENDAR
VERSION:2.0
PRODID:-//ChamberMaster//Event Calendar 2.0//EN
METHOD:PUBLISH
X-PUBLISHED-TTL:P3D
REFRESH-INTERVAL:P3D
CALSCALE:GREGORIAN
BEGIN:VEVENT
DTSTART:20210717T130000Z
DTEND:20210717T220000Z
X-MICROSOFT-CDO-ALLDAYEVENT:FALSE
SUMMARY:9th Annual Golf Tournament
DESCRIPTION:Deep Creek Volunteer Fire Company is hosting its 9th annual Golf Classic on July 17\, 2021\, at the Oakland Golf Course in Oakland\, Maryland.\n\nTournament proceeds will benefit the Deep Creek Volunteer Fire Company and will be used to help fund the additions to the existing fire hall. The additions will include offices\, bunker rooms\, restrooms\, and a conference room on the second floor. We are in the planning stages now and we are asking for the assistance of our community to help with the funding of our projects. You can help by becoming a sponsor or playing in our tournament. We appreciate the support we received from our previous tournaments and are looking forward to another rewarding day!\n\nBecome a Sponsor\n\nThere are two different levels of sponsorship. Gold sponsors ($200) will be acknowledged with their company name and logo on our corporate displays and tee box display at the tournament. Silver sponsors ($100) will be acknowledged with their company name and logo displayed at a tee box. We are also asking for contributions in the form of gift certificates\, corporate products\, or services for door prizes. Click HERE to become a sponsor!\n\nRegister to Play\n\nWe hope to host over 100 golfers of all skill levels\, both men and women. Entry fee: $75.00 per individual player.  The tournament will be played as a 2 Person Scramble with a shotgun start. Golfers do not have to be a fireman to play but should indicate which Fire Company they would like to represent when they register. The Fire Company with the lowest total score will win a trophy that will remain at their respective Fire Hall until next year's tournament. This will be a great day of golf\, food\, beverages\, and prizes for all involved. We need to make this day a success so sign up today! Click HERE to register a team and golfers!\n\nHole in One Grand Prize is $25\,000\n\nThe first person to sink a hole in one on Hole 9 will win $25\,000.\n\nContact information:\n\n301-616-6149 / 301-387-5252\n\nfacebook.com/DCVFC30 or http://www.DCVFC30.org
X-ALT-DESC;FMTTYPE=text/html:<p>Deep Creek Volunteer Fire Company is hosting its 9th annual Golf Classic on July 17\, 2021\, at the Oakland Golf Course in Oakland\, Maryland.</p>\n\n<p>Tournament proceeds will benefit the Deep Creek Volunteer Fire Company and will be used to help fund the additions to the existing fire hall. The additions will include offices\, bunker rooms\, restrooms\, and a conference room on the second floor. We are in the planning stages now and we are asking for the assistance of our community to help with the funding of our projects. You can help by becoming a sponsor or playing in our tournament. We appreciate the support we received from our previous tournaments and are looking forward to another rewarding day!</p>\n\n<p><strong>Become a Sponsor</strong><br />\nThere are two different levels of sponsorship.&nbsp\;<strong>Gold sponsors ($200)&nbsp\;</strong>will be acknowledged with their company name and logo on our corporate displays and tee box display at the tournament.&nbsp\;<strong>Silver sponsors ($100)&nbsp\;</strong>will be acknowledged with their company name and logo displayed at a tee box. We are also asking for contributions in the form of gift certificates\, corporate products\, or services for door prizes. Click&nbsp\;<a href="https://dcvfc30.org/golf-tournament-sponsor-page/" style="box-sizing: inherit\; background-color: transparent\; color: rgb(202\, 32\, 23)\; text-decoration-line: none\; transition: all 0.1s ease-in-out 0s\;">HERE</a>&nbsp\;to become a sponsor!</p>\n\n<p><strong>Register to Play</strong><br />\nWe hope to host over 100 golfers of all skill levels\, both men and women. Entry fee:&nbsp\;<strong>$75.00 per individual player</strong>.&nbsp\; The tournament will be played as a 2 Person Scramble with a shotgun start. Golfers do not have to be a fireman to play but should indicate which Fire Company they would like to represent when they register. The Fire Company with the lowest total score will win a trophy that will remain at their respective Fire Hall until next year&rsquo\;s tournament. This will be a great day of golf\, food\, beverages\, and prizes for all involved. We need to make this day a success so sign up today! Click&nbsp\;<a href="https://dcvfc30.org/golf-tournament-2019/" style="box-sizing: inherit\; background-color: transparent\; color: rgb(202\, 32\, 23)\; text-decoration-line: none\; transition: all 0.1s ease-in-out 0s\;">HERE</a>&nbsp\;to register a team and golfers!</p>\n\n<p><strong>Hole in One Grand Prize is $25\,000</strong><br />\nThe first person to sink a hole in one on Hole 9 will win $25\,000.</p>\n\n<p>Contact information:<br />\n301-616-6149 / 301-387-5252<br />\nfacebook.com/DCVFC30 or&nbsp\;<a href="http://www.dcvfc30.org/" rel="nofollow" style="box-sizing: inherit\; background-color: transparent\; color: rgb(202\, 32\, 23)\; text-decoration-line: none\; transition: all 0.1s ease-in-out 0s\;">http://www.DCVFC30.org</a></p>\n
LOCATION:Located in: Oakland Golf Course Address: 433 N Bradley Ln\, Oakland\, MD 21550 Phone: (301) 334-3883
UID:e.847.34459
SEQUENCE:3
DTSTAMP:20260421T080807Z
URL:https://members.visitdeepcreek.com/events/details/9th-annual-golf-tournament-34459
END:VEVENT

END:VCALENDAR
