BEGIN:VCALENDAR
VERSION:2.0
PRODID:-//ChamberMaster//Event Calendar 2.0//EN
METHOD:PUBLISH
X-PUBLISHED-TTL:P3D
REFRESH-INTERVAL:P3D
CALSCALE:GREGORIAN
BEGIN:VEVENT
DTSTART:20210814T150000Z
DTEND:20210814T180000Z
X-MICROSOFT-CDO-ALLDAYEVENT:FALSE
SUMMARY:80th Anniversary of the Garrett County Historical Society
DESCRIPTION:The Garrett County Historical Society is celebrating it's 80th anniversary with an old fashioned ice cream social on Saturday\, August 14th from 11:00 to 2:00\, at the gazebo in Dailey Park on 2nd Street. Please join us for homemade cupcakes\, Devler's ice cream\, and more. Donations accepted.
X-ALT-DESC;FMTTYPE=text/html:The Garrett County Historical Society is celebrating it&rsquo\;s 80th anniversary with an old fashioned ice cream social on Saturday\, August 14th from 11:00 to 2:00\, at the gazebo in Dailey Park on 2nd Street. Please join us for homemade cupcakes\, Devler&rsquo\;s ice cream\, and more. Donations accepted.
LOCATION:Dailey Park at 2nd St in Oakland\, MD
UID:e.847.36612
SEQUENCE:3
DTSTAMP:20260421T045744Z
URL:https://members.visitdeepcreek.com/events/details/80th-anniversary-of-the-garrett-county-historical-society-36612
END:VEVENT

END:VCALENDAR
