BEGIN:VCALENDAR
VERSION:2.0
PRODID:-//ChamberMaster//Event Calendar 2.0//EN
METHOD:PUBLISH
X-PUBLISHED-TTL:P3D
REFRESH-INTERVAL:P3D
CALSCALE:GREGORIAN
BEGIN:VEVENT
DTSTART:20210722T200000Z
DTEND:20210725T150000Z
X-MICROSOFT-CDO-ALLDAYEVENT:FALSE
SUMMARY:8th Annual Ladies Shotgun "Salon" Event - RESCHEDULED!
DESCRIPTION:**Out-of-County Regional Event**\n\n\n\nAll Inclusive 4 days/3 nights of Incredible FUN for Ladies Only!\n\n* Sporting Clays & Instruction  \n\n* Trillium Spa Services\n\n* Gourmet Fare\n\n* Swanky Lodging\n\n* Prizes & Giveaways
X-ALT-DESC;FMTTYPE=text/html:<span style="color:rgb(255\, 0\, 0)"><strong>**Out-of-County Regional Event**</strong></span><br />\n<br />\nAll Inclusive 4 days/3 nights of Incredible FUN for Ladies Only!<br />\n*&nbsp\;Sporting Clays &amp\; Instruction&nbsp\;&nbsp\;<br />\n* Trillium Spa Services<br />\n* Gourmet Fare<br />\n* Swanky Lodging<br />\n* Prizes &amp\; Giveaways<br />\n<br />\n&nbsp\;
LOCATION:Seven Springs Mountain Resort 777 Waterwheel Drive Champion\, PA 15622
UID:e.847.25936
SEQUENCE:3
DTSTAMP:20260421T064547Z
URL:https://members.visitdeepcreek.com/events/details/7th-annual-ladies-shotgun-salon-event-25936
END:VEVENT

END:VCALENDAR
