BEGIN:VCALENDAR
VERSION:2.0
PRODID:-//ChamberMaster//Event Calendar 2.0//EN
METHOD:PUBLISH
X-PUBLISHED-TTL:P3D
REFRESH-INTERVAL:P3D
CALSCALE:GREGORIAN
BEGIN:VEVENT
DTSTART:20220704T223000Z
DTEND:20220705T013000Z
X-MICROSOFT-CDO-ALLDAYEVENT:FALSE
SUMMARY:4th of July Stage Wisp Concert
DESCRIPTION:Join us for a bonus Stage Wisp Concert on July 4th! Enjoy FREE live music from 6:30pm to 9:30pm under the saddle tent on the front lawn - don't forget your blanket and lawn chairs!  Hot eats and cool drinks will be available for purchase on the outdoor deck.\n\n\n\nThe Garrett County Chamber of Commerce Fire on the Mountain Fireworks Display goes off directly after the concert here at Wisp.\n\n\n\nMore information at wispresort.com/Stage-Wisp/
X-ALT-DESC;FMTTYPE=text/html:Join us for a bonus Stage Wisp Concert on July 4th! Enjoy FREE live music from 6:30pm to 9:30pm under the saddle tent on the front lawn - don&#39\;t forget your blanket and lawn chairs!&nbsp\; Hot eats and cool drinks will be available for purchase on the outdoor deck.<br />\n<br />\nThe Garrett County Chamber of Commerce Fire on the Mountain Fireworks Display goes off directly after the concert here at Wisp.<br />\n<br />\nMore information at wispresort.com/Stage-Wisp/
LOCATION:Wisp Resort 296 Marsh Hill Road McHenry\, MD 21541
UID:e.847.37834
SEQUENCE:3
DTSTAMP:20260420T123849Z
URL:https://members.visitdeepcreek.com/events/details/4th-of-july-stage-wisp-concert-37834
END:VEVENT

END:VCALENDAR
