BEGIN:VCALENDAR
VERSION:2.0
PRODID:-//ChamberMaster//Event Calendar 2.0//EN
METHOD:PUBLISH
X-PUBLISHED-TTL:P3D
REFRESH-INTERVAL:P3D
CALSCALE:GREGORIAN
BEGIN:VEVENT
DTSTART:20220402T140000Z
DTEND:20220402T163000Z
X-MICROSOFT-CDO-ALLDAYEVENT:FALSE
SUMMARY:2022 Annual STEM Event
DESCRIPTION:Join us for the 2022 Annual STEM Event taking place on Saturday\, April 2nd\, beginning at 10 a.m.\, showcasing the GC STEM Center and the College's programs and opportunities. Science\, technology\, engineering and math demonstrations will be provided by members of the Garrett College community and external partners. Project displays\, experiments and hands-on demonstrations from GC STEM faculty and students\, Garrett County Public Schools\, regional colleges/universities and community businesses and partners will also be on display. All activities are free of charge and will take place in the Daniel E. Offutt III STEM Center at Garrett College. This event is open to both prospective students and the public for all ages. While you're here\, be sure to stop by the Explore Garrett Open House also taking place from 9:30 a.m. - 12:30 p.m. in Room 111 of the McHenry campus of Garrett College.
X-ALT-DESC;FMTTYPE=text/html:Join us for the 2022 Annual STEM Event taking place on Saturday\, April 2nd\, beginning at 10 a.m.\, showcasing the GC STEM Center and the College&rsquo\;s programs and opportunities. Science\, technology\, engineering and math demonstrations will be provided by members of the Garrett College community and external partners. Project displays\, experiments and hands-on demonstrations from GC STEM faculty and students\, Garrett County Public Schools\, regional colleges/universities and community businesses and partners will also be on display. All activities are free of charge and will take place in the Daniel E. Offutt III STEM Center at Garrett College. This event is open to both prospective students and the public for all ages. While you&#39\;re here\, be sure to stop by the Explore Garrett Open House also taking place from 9:30 a.m. - 12:30 p.m. in Room 111 of the McHenry campus of Garrett College.
LOCATION:Garrett College McHenry Campus\, Daniel E. Offutt III STEM Center
UID:e.847.36794
SEQUENCE:3
DTSTAMP:20260420T153621Z
URL:https://members.visitdeepcreek.com/events/details/2022-annual-stem-event-36794
END:VEVENT

END:VCALENDAR
